BEGIN:VCALENDAR
VERSION:2.0
PRODID:-//ChamberMaster//Event Calendar 2.0//EN
METHOD:PUBLISH
X-PUBLISHED-TTL:P3D
REFRESH-INTERVAL:P3D
CALSCALE:GREGORIAN
BEGIN:VEVENT
DTSTART:20170609T190000Z
DTEND:20170610T000000Z
X-MICROSOFT-CDO-ALLDAYEVENT:FALSE
SUMMARY:PG&E presents: OUT FOR BUSINESS
DESCRIPTION:Please join PG&E on Friday June 9th for our 2nd Annual Out for Business Workshop.  This is our signature event connecting LGBT suppliers to PG&E purchasers\, PG&E suppliers and other companies.\n\n \n\nBelow is the agenda for the day and a link to register. The final hour will include schedule directed meetings between our primes and potential LGBT suppliers. In the registration we ask what types of suppliers you might be interested in meeting so that we can make the best connections for you. \n\n	Welcome Remarks & Safety Briefing\n	Building your Business by Michael Gunther\, founder of Collaboration\n	Panel (Prime & LGBT)   Successful strategies for LGBT Suppliers\n	Matchmaking & Networking\n\n\n\nBackground: In 2012\, PG&E added LGBT suppliers to how we defined diverse supplier and we are very interested in going spend with this community segment both directly\, through our Prime suppliers and generally with our fellow corporations.  In a recent report by the National Gay & Lesbian Chamber of Commerce\, it estimates LGBT owned businesses add $1.7B billion to the economy and create tens of thousands of jobs.  It also estimates that nearly 20% of all certified LGBT suppliers are located in the state of California.  These are companies who have an average of 12 years in business and over $2M in sales.  They are strong viable businesses that we believe are an important part of our future success.
X-ALT-DESC;FMTTYPE=text/html:Please join PG&amp\;E on Friday June 9th for our 2nd Annual <strong>Out for Business Workshop.</strong>&nbsp\; This is our signature event connecting LGBT suppliers to PG&amp\;E purchasers\, PG&amp\;E suppliers and other companies.<br />\n&nbsp\;<br />\nBelow is the agenda for the day and a link to register.&nbsp\;The final hour will include schedule directed meetings between our primes and potential&nbsp\;LGBT&nbsp\;suppliers. In the registration we ask what types of suppliers you might be interested in meeting so that we can make the best connections for you.&nbsp\;\n<ul>\n	<li><strong>Welcome Remarks &amp\; Safety Briefing</strong></li>\n	<li><strong>Building your Business by Michael Gunther\, founder of Collaboration</strong></li>\n	<li><strong>Panel (Prime &amp\; LGBT) &ndash\; Successful strategies for LGBT Suppliers</strong></li>\n	<li><strong>Matchmaking &amp\; Networking</strong></li>\n</ul>\n<br />\n<strong><em>Background:</em></strong> In 2012\, PG&amp\;E added LGBT suppliers to how we defined diverse supplier and we are very interested in going spend with this community segment both directly\, through our Prime suppliers and generally with our fellow corporations.&nbsp\; In a recent report by the National Gay &amp\; Lesbian Chamber of Commerce\, it estimates LGBT owned businesses add $1.7B billion to the economy and create tens of thousands of jobs.&nbsp\; It also estimates that nearly 20% of all certified LGBT suppliers are located in the state of California.&nbsp\; These are companies who have an average of 12 years in business and over $2M in sales.&nbsp\; They are strong viable businesses that we believe are an important part of our future success.<br />\n&nbsp\;<br />\n&nbsp\;
LOCATION:245 Market Street Conference Room A San Francisco\, CA 94105
UID:e.2568.38
SEQUENCE:3
DTSTAMP:20260419T204207Z
URL:https://business.rainbowchamber.org/events/details/pg-e-presents-out-for-business-38
END:VEVENT

END:VCALENDAR
